BEGIN:VCALENDAR
VERSION:2.0
PRODID:-//hacksw/handcal//NONSGML v1.0//EN
CALSCALE:GREGORIAN
BEGIN:VEVENT
DTSTART:20270314T170000Z
DTEND:20270314T200000Z
SUMMARY:KEBLACK
DESCRIPTION:Keblack , la remontada exceptionnelle!
Cette dernière année a été magique pour Keblack : des singles de diamant avec Laisse moi, Aucune attache, Melrose place feat Guy2Bezbar, Boucan feat Franglish et des singles de platine avec Boulot feat SDM et Génération impolie feat Franglish, un album Focus certifié double platine et une très belle tournée 2025 dans toute la France avec un Zénith de Paris.
Il revient en 2027 avec une tournée qui s’annonce déjà immanquable et un Accor Arena le 25 Mars 2027 : une célébration de ses plus grands hits et de son ascension fulgurante.
LOCATION:Esplanade Charles De Gaulle 34000 Montpellier, 34000, MONTPELLIER, France
URL:https://www.zenithsud-montpellier.com/fr/agenda/concert-spectacles-corum/keblack
STATUS:CONFIRMED
GEO:43.614226;3.882576
END:VEVENT
END:VCALENDAR