BEGIN:VCALENDAR
VERSION:2.0
PRODID:-//hacksw/handcal//NONSGML v1.0//EN
CALSCALE:GREGORIAN
BEGIN:VEVENT
DTSTART:20270530T120000Z
DTEND:20270530T150000Z
SUMMARY:LE LAC DES CYGNES
DESCRIPTION:Salle Berlioz

En 2027, Le Lac des Cygnes fera son retour sur les scènes françaises et européennes à l’occasion d’une tournée d’exception. Ce ballet mythique du répertoire classique sera présenté dans une production renouvelée, pensée pour offrir au public un moment riche en émotions.
Ce chef-d’œuvre du ballet classique sur la musique de Piotr Ilitch Tchaïkovski, raconte l’histoire du prince Siegfried et d’Odette, princesse transformée en cygne le jour par un cruel sortilège. Fou amoureux, Siegfried devra affronter les pièges du terrible Rothbart pour la sauver. L’amour suffira-t-il à triompher du mal ?
Réservez vos places dès maintenant pour (re)découvrir un chef-d’œuvre du ballet classique !
LOCATION:LE CORUM Esplanade Charles De Gaulle, 34000, Montpellier, France
URL:https://www.corum-montpellier.com/fr/agenda/concert-spectacles-corum/le-lac-des-cygnes-30mai-2027-14h
STATUS:CONFIRMED
GEO:43.614226;3.882576
END:VEVENT
END:VCALENDAR