BEGIN:VCALENDAR
VERSION:2.0
PRODID:-//hacksw/handcal//NONSGML v1.0//EN
CALSCALE:GREGORIAN
BEGIN:VEVENT
DTSTART:20260424T183000Z
DTEND:20260424T210000Z
SUMMARY:SARAH SCHWAB
DESCRIPTION:"Cher spectateur,
Nous sommes au regret de vous informer de l’annulation du spectacle de Sarah Schwab « Du rêve à la réalité » prévu le 24/04/2026 à Montpellier pour des raisons indépendantes de notre volonté et de celle de l’artiste.
Nous vous encourageons à vous rapprocher de votre point de vente avant le 24/07/26 pour demander un remboursement.
Nous sommes sincèrement désolés pour la gêne occasionnée et remercions notre public pour sa compréhension et son soutien.
Nous espérons pouvoir vous retrouver très prochainement pour un prochain événement.
LOCATION:LE CORUM Esplanade Charles De Gaulle, 34000, Montpellier, France
URL:https://www.corum-montpellier.com/fr/agenda/concert-spectacles-corum/sarah-schwab
STATUS:CANCELLED
GEO:43.614226;3.882576
END:VEVENT
END:VCALENDAR