BEGIN:VCALENDAR
VERSION:2.0
PRODID:-//hacksw/handcal//NONSGML v1.0//EN
CALSCALE:GREGORIAN
BEGIN:VEVENT
DTSTART:20260703T114100Z
DTEND:20260703T114100Z
SUMMARY:CEREMONIE DES DOCTORANTS UNIVERSITE DE MONTPELLIER
DESCRIPTION:
LOCATION:LE CORUM Esplanade Charles De Gaulle, 34000, Montpellier, France
URL:https://www.montpellier-events.com/fr/agenda/congres-convention/ceremonie-des-doctorants-universite-de-montpellier
STATUS:CONFIRMED
GEO:43.614226;3.882576
END:VEVENT
END:VCALENDAR