BEGIN:VCALENDAR
VERSION:2.0
PRODID:-//hacksw/handcal//NONSGML v1.0//EN
CALSCALE:GREGORIAN
BEGIN:VEVENT
DTSTART:20260602T070000Z
DTEND:20260602T160000Z
SUMMARY:JOURNEE SATELLITE - NPIS
DESCRIPTION:Le NPIS Satellite est un rassemblement des professionnels et des usagers co-organisé par la Société Savante des INM NPIS, sur un thème de santé précis pour penser une meilleure implémentation des interventions non médicamenteuses (INM) sur un territoire.
LOCATION:LE CORUM Esplanade Charles De Gaulle, 34000, Montpellier, France
URL:https://www.montpellier-events.com/fr/agenda/congres-convention/journee-satellite-npis
STATUS:CONFIRMED
GEO:43.614226;3.882576
END:VEVENT
END:VCALENDAR