BEGIN:VCALENDAR
VERSION:2.0
PRODID:-//hacksw/handcal//NONSGML v1.0//EN
CALSCALE:GREGORIAN
BEGIN:VEVENT
DTSTART:20260712T072500Z
DTEND:20260715T072500Z
SUMMARY:PLANT ENERGY MANAGEMENT 2026
DESCRIPTION:MOLECULAR MECHANISMS OF GROWTH AND STRESS RESPONSES

Plants transform light and CO₂ into energy, but how they allocate, regulate, and connect this energy with nutrition remains one of biology’s most fascinating questions. From photosynthesis to respiration, from TOR/SnRK1 signaling to nutrient sensing, growth, stress resilience, and flowering, energy management links every level of plant function. This workshop will gather leading scientists to explore how plants sense, distribute, and optimize energy and nutrients to thrive in a changing environment — through plenary talks, posters, and dynamic discussions fostering collaboration and new ideas
LOCATION:
URL:https://www.montpellier-events.com/fr/agenda/congres-convention/plant-energy-management-2026
STATUS:CONFIRMED
GEO:
END:VEVENT
END:VCALENDAR