BEGIN:VCALENDAR
VERSION:2.0
PRODID:-//hacksw/handcal//NONSGML v1.0//EN
CALSCALE:GREGORIAN
BEGIN:VEVENT
DTSTART:20270307T170000Z
DTEND:20270307T210000Z
SUMMARY:RODRIGUE
DESCRIPTION:Salle Pasteur

Rodrigue, étoile montante de la nouvelle génération, pose son micro à *salle & ville*.
Depuis six ans sur scène, Rodrigue a affiné son regard : celui du gars qui a vu la routine du boulot, le stress, les hiérarchies, mais aussi les petites absurdités qui font sourire… ou grincer. Ici, l’humour devient une arme douce : pour rire de nos propres faiblesses, de nos styles de vannes, de ce qui passe ou pas dans les conversations. Et quand les grands bouleversements de notre époque pointent à l’horizon, il y voit une belle occasion de prendre du recul… et de se marrer.
LOCATION:LE CORUM Esplanade Charles De Gaulle, 34000, Montpellier, France
URL:https://www.corum-montpellier.com/fr/agenda/theatre-humour/rodrigue
STATUS:CONFIRMED
GEO:43.614226;3.882576
END:VEVENT
END:VCALENDAR